BEGIN:VCALENDAR
VERSION:2.0
PRODID:-//2kg Challenge - ECPv6.6.4.2//NONSGML v1.0//EN
CALSCALE:GREGORIAN
METHOD:PUBLISH
X-WR-CALNAME:2kg Challenge
X-ORIGINAL-URL:https://2kgchallenge.com.au
X-WR-CALDESC:Events for 2kg Challenge
REFRESH-INTERVAL;VALUE=DURATION:PT1H
X-Robots-Tag:noindex
X-PUBLISHED-TTL:PT1H
BEGIN:VTIMEZONE
TZID:Australia/Sydney
BEGIN:STANDARD
TZOFFSETFROM:+1100
TZOFFSETTO:+1000
TZNAME:AEST
DTSTART:20240406T160000
END:STANDARD
BEGIN:DAYLIGHT
TZOFFSETFROM:+1000
TZOFFSETTO:+1100
TZNAME:AEDT
DTSTART:20241005T160000
END:DAYLIGHT
END:VTIMEZONE
BEGIN:VEVENT
DTSTART;VALUE=DATE:20240714
DTEND;VALUE=DATE:20240722
DTSTAMP:20260422T051415
CREATED:20240521T041810Z
LAST-MODIFIED:20240717T074039Z
UID:10002643-1720915200-1721606399@2kgchallenge.com.au
SUMMARY:Diabetes Week
DESCRIPTION:Shining a light on the impact of diabetes tech and what needs to be done to improve access
URL:https://2kgchallenge.com.au/event/diabetes-week/
END:VEVENT
BEGIN:VEVENT
DTSTART;VALUE=DATE:20240721
DTEND;VALUE=DATE:20240722
DTSTAMP:20260422T051415
CREATED:20240205T020535Z
LAST-MODIFIED:20240508T024613Z
UID:10002294-1721520000-1721606399@2kgchallenge.com.au
SUMMARY:Join a walking group today!
DESCRIPTION:Heart Foundation Walking have established a network of walking groups all over Australia\, led by community volunteer Walk Organisers. The Walking Groups are a social\, fun and easy way to get more physically active. Walking groups come in different sizes and walk at various times of the day and days of the week\, for varying distances and differing levels of difficulty. Find out more and search and join a group in your area \nFind out more
URL:https://2kgchallenge.com.au/event/join-a-walking-group-today/2024-07-21/
ATTACH;FMTTYPE=image/jpeg:https://2kgchallenge.com.au/wp-content/uploads/2024/02/sk-Q6sRAxsAX68-unsplash-scaled.jpg
END:VEVENT
END:VCALENDAR