BEGIN:VCALENDAR
VERSION:2.0
PRODID:-//2kg Challenge - ECPv6.6.4.2//NONSGML v1.0//EN
CALSCALE:GREGORIAN
METHOD:PUBLISH
X-WR-CALNAME:2kg Challenge
X-ORIGINAL-URL:https://2kgchallenge.com.au
X-WR-CALDESC:Events for 2kg Challenge
REFRESH-INTERVAL;VALUE=DURATION:PT1H
X-Robots-Tag:noindex
X-PUBLISHED-TTL:PT1H
BEGIN:VTIMEZONE
TZID:Australia/Sydney
BEGIN:STANDARD
TZOFFSETFROM:+1100
TZOFFSETTO:+1000
TZNAME:AEST
DTSTART:20250405T160000
END:STANDARD
BEGIN:DAYLIGHT
TZOFFSETFROM:+1000
TZOFFSETTO:+1100
TZNAME:AEDT
DTSTART:20251004T160000
END:DAYLIGHT
END:VTIMEZONE
BEGIN:VEVENT
DTSTART;VALUE=DATE:20250909
DTEND;VALUE=DATE:20250910
DTSTAMP:20260423T003443
CREATED:20250605T105927Z
LAST-MODIFIED:20250804T060147Z
UID:10006721-1757376000-1757462399@2kgchallenge.com.au
SUMMARY:Join Free or Low Cost Community Fitness Classes in Riverstone
DESCRIPTION:North West Community Services Inc runs FREE community fitness classes each Tuesday at 10:30am\, during school terms. \nInterested? Call 9627 3622 or email athapa@nwcs.org.au \nThere are also extra classes in August and September\, specifically for seniors at a cost of $5 per session. These hour long classes are held on Tuesdays at 11:30am and Fridays at 10:30am. \nInterested in Winter Fitness Classes for Seniors ($5 per session)? Call Harry on 9627 3622 or email hgale@nwcs.org.au \nWhether you are wanting to keep up your fitness\, or exercise your mind and body\, talk to our friends at North West Community Services. \nAll classes are held at 9 Park Street\, Riverstone.
URL:https://2kgchallenge.com.au/event/join-free-community-fitness-classes-in-riverstone/2025-09-09/
END:VEVENT
BEGIN:VEVENT
DTSTART;VALUE=DATE:20250909
DTEND;VALUE=DATE:20250910
DTSTAMP:20260423T003443
CREATED:20250804T053932Z
LAST-MODIFIED:20250804T053932Z
UID:10006715-1757376000-1757462399@2kgchallenge.com.au
SUMMARY:Learn more about our friends - Box Divvy
DESCRIPTION:Box Divvy is a community-driven food network bringing fresh\, affordable and nutritious groceries directly to you. \nBy partnering with local farmers and suppliers\, Box Divvy offers a range of seasonal fruits\, vegetables\, meats\, and pantry staples at up to 30% less than supermarket prices. \nThis community-based system promotes healthier eating with a focus on whole foods\, reducing reliance on processed options to support long-term well-being. \n\n\n\n\n\n\n\n\n\n\n\n\n\n\n\n\n\n\n\n\n\n\n\n\n\n\n\n\n\n\n\n\n\n\n\n\n\n\n \n\n\n\n\n\n\n\n\n\n\n\n\n\n\n\n\nEach Box Divvy Food Hub is conveniently run by someone in your neighbourhood\, allowing you to order fresh produce online\, customise your weekly groceries and pick up your box locally. \nWith no joining fees and a commitment to reduce food waste\, Box Divvy offers a sustainable\, eco-friendly approach to grocery shopping. \n\n\n\n\n\n\n\n\n\n\n\n\n\n\n\n\n\n\n\n\n\n\n\n\n\n\n\n\n\n\n\n\n\n\n\n\n\n\nBox Divvy isn’t just about saving money – it’s also about making healthy eating easier. \nFresh\, whole foods like fruits\, vegetables\, and lean meats are better for your health and can help lower the risk of type 2 diabetes. \nChoosing Box Divvy can help you eat healthier\, support local farmers\, and reduce the impact on our environment. \n\n\n\n\n\n\n\n\n\n\n\n\n\n\n\n\n\n\n\n\n\n\n\n\n\n\n\n\n\n\n\n\n\n\n\n\n\n\n\n\n\n\n\n\n\n\n\n\n\n\n\n\n\n\n\n\n. \nFind Out More
URL:https://2kgchallenge.com.au/event/learn-more-about-our-friends-box-divvy-2-2-2-2-2/2025-09-09/
ATTACH;FMTTYPE=image/jpeg:https://2kgchallenge.com.au/wp-content/uploads/2025/01/box-divvy.jpg
END:VEVENT
END:VCALENDAR