BEGIN:VCALENDAR
VERSION:2.0
PRODID:-//2kg Challenge - ECPv6.6.4.2//NONSGML v1.0//EN
CALSCALE:GREGORIAN
METHOD:PUBLISH
X-ORIGINAL-URL:https://2kgchallenge.com.au
X-WR-CALDESC:Events for 2kg Challenge
REFRESH-INTERVAL;VALUE=DURATION:PT1H
X-Robots-Tag:noindex
X-PUBLISHED-TTL:PT1H
BEGIN:VTIMEZONE
TZID:Australia/Sydney
BEGIN:STANDARD
TZOFFSETFROM:+1100
TZOFFSETTO:+1000
TZNAME:AEST
DTSTART:20260404T160000
END:STANDARD
BEGIN:DAYLIGHT
TZOFFSETFROM:+1000
TZOFFSETTO:+1100
TZNAME:AEDT
DTSTART:20261003T160000
END:DAYLIGHT
END:VTIMEZONE
BEGIN:VEVENT
DTSTART;VALUE=DATE:20260622
DTEND;VALUE=DATE:20260623
DTSTAMP:20260421T215752
CREATED:20250529T091548Z
LAST-MODIFIED:20251001T225555Z
UID:10006350-1782086400-1782172799@2kgchallenge.com.au
SUMMARY:Run out of ideas?
DESCRIPTION:Check out our Resources page for healthy eating\, exercise\, staying connected and happiness in the great outdoors of Western Sydney \nCheck it Out
URL:https://2kgchallenge.com.au/event/run-out-of-ideas-2-2/2026-06-22/
END:VEVENT
END:VCALENDAR